Workbook

Sheet forward
B1: R1a | C1: R1b | D1: R2a | E1: R2b | F1: R3a | G1: R3b | H1: R4a | I1: R4b | J1: R5 | K1: R6 | L1: R7
A2: ATP | B2: 1 | C2: 0 | D2: 1 | E2: 0 | F2: 1 | G2: 0 | H2: 0 | I2: 0 | J2: 0 | K2: 0 | L2: 0
A3: cAMP | B3: 0 | C3: 0 | D3: 0 | E3: 0 | F3: 0 | G3: 0 | H3: 1 | I3: 0 | J3: 0 | K3: 0 | L3: 0
A4: AC | B4: 1 | C4: 0 | D4: 0 | E4: 0 | F4: 0 | G4: 0 | H4: 0 | I4: 0 | J4: 0 | K4: 1 | L4: 1
A5: AC_ATP | B5: 0 | C5: 1 | D5: 0 | E5: 0 | F5: 0 | G5: 0 | H5: 0 | I5: 0 | J5: 0 | K5: 0 | L5: 0
A6: GsaGTPAC | B6: 0 | C6: 0 | D6: 1 | E6: 0 | F6: 0 | G6: 0 | H6: 0 | I6: 0 | J6: 0 | K6: 0 | L6: 0
A7: GsaGTPAC_ATP | B7: 0 | C7: 0 | D7: 0 | E7: 1 | F7: 0 | G7: 0 | H7: 0 | I7: 0 | J7: 0 | K7: 0 | L7: 0
A8: FSKAC | B8: 0 | C8: 0 | D8: 0 | E8: 0 | F8: 1 | G8: 0 | H8: 0 | I8: 0 | J8: 0 | K8: 0 | L8: 0
A9: FSKAC_ATP | B9: 0 | C9: 0 | D9: 0 | E9: 0 | F9: 0 | G9: 1 | H9: 0 | I9: 0 | J9: 0 | K9: 0 | L9: 0
A10: PDE | B10: 0 | C10: 0 | D10: 0 | E10: 0 | F10: 0 | G10: 0 | H10: 1 | I10: 0 | J10: 1 | K10: 0 | L10: 0
A11: PDE_cAMP | B11: 0 | C11: 0 | D11: 0 | E11: 0 | F11: 0 | G11: 0 | H11: 0 | I11: 1 | J11: 0 | K11: 0 | L11: 0
A12: 5AMP | B12: 0 | C12: 0 | D12: 0 | E12: 0 | F12: 0 | G12: 0 | H12: 0 | I12: 0 | J12: 0 | K12: 0 | L12: 0
A13: IBMX | B13: 0 | C13: 0 | D13: 0 | E13: 0 | F13: 0 | G13: 0 | H13: 0 | I13: 0 | J13: 1 | K13: 0 | L13: 0
... A16: FSK | B16: 0 | C16: 0 | D16: 0 | E16: 0 | F16: 0 | G16: 0 | H16: 0 | I16: 0 | J16: 0 | K16: 0 | L16: 1

Sheet reverse
B1: R1a | C1: R1b | D1: R2a | E1: R2b | F1: R3a | G1: R3b | H1: R4a | I1: R4b | J1: R5 | K1: R6 | L1: R7
A2: ATP | B2: 0 | C2: 0 | D2: 0 | E2: 0 | F2: 0 | G2: 0 | H2: 0 | I2: 0 | J2: 0 | K2: 0 | L2: 0
A3: cAMP | B3: 0 | C3: 1 | D3: 0 | E3: 1 | F3: 0 | G3: 1 | H3: 0 | I3: 0 | J3: 0 | K3: 0 | L3: 0
A4: AC | B4: 0 | C4: 1 | D4: 0 | E4: 0 | F4: 0 | G4: 0 | H4: 0 | I4: 0 | J4: 0 | K4: 0 | L4: 0
A5: ATP_AC | B5: 1 | C5: 0 | D5: 0 | E5: 0 | F5: 0 | G5: 0 | H5: 0 | I5: 0 | J5: 0 | K5: 0 | L5: 0
A6: GsaGTPAC | B6: 0 | C6: 0 | D6: 0 | E6: 1 | F6: 0 | G6: 0 | H6: 0 | I6: 0 | J6: 0 | K6: 1 | L6: 0
A7: GsaGTPAC_ATP | B7: 0 | C7: 0 | D7: 1 | E7: 0 | F7: 0 | G7: 0 | H7: 0 | I7: 0 | J7: 0 | K7: 0 | L7: 0
A8: FSKAC | B8: 0 | C8: 0 | D8: 0 | E8: 0 | F8: 0 | G8: 1 | H8: 0 | I8: 0 | J8: 0 | K8: 0 | L8: 1
A9: FSKAC_ATP | B9: 0 | C9: 0 | D9: 0 | E9: 0 | F9: 1 | G9: 0 | H9: 0 | I9: 0 | J9: 0 | K9: 0 | L9: 0
A10: PDE | B10: 0 | C10: 0 | D10: 0 | E10: 0 | F10: 0 | G10: 0 | H10: 0 | I10: 1 | J10: 0 | K10: 0 | L10: 0
A11: PDE_cAMP | B11: 0 | C11: 0 | D11: 0 | E11: 0 | F11: 0 | G11: 0 | H11: 1 | I11: 0 | J11: 0 | K11: 0 | L11: 0
A12: 5AMP | B12: 0 | C12: 0 | D12: 0 | E12: 0 | F12: 0 | G12: 0 | H12: 0 | I12: 1 | J12: 0 | K12: 0 | L12: 0
A13: IBMX | B13: 0 | C13: 0 | D13: 0 | E13: 0 | F13: 0 | G13: 0 | H13: 0 | I13: 0 | J13: 0 | K13: 0 | L13: 0
... A16: FSK | B16: 0 | C16: 0 | D16: 0 | E16: 0 | F16: 0 | G16: 0 | H16: 0 | I16: 0 | J16: 0 | K16: 0 | L16: 0

Sheet difference
B1: R1a | C1: R1b | D1: R2a | E1: R2b | F1: R3a | G1: R3b | H1: R4a | I1: R4b | J1: R5 | K1: R6 | L1: R7
A2: ATP | B2: =reverse!B2-forward!B2 -> -1 | C2: =reverse!C2-forward!C2 -> 0 | D2: =reverse!D2-forward!D2 -> -1 | E2: =reverse!E2-forward!E2 -> 0 | F2: =reverse!F2-forward!F2 -> -1 | G2: =reverse!G2-forward!G2 -> 0 | H2: =reverse!H2-forward!H2 -> 0 | I2: =reverse!I2-forward!I2 -> 0 | ... L2: =reverse!L2-forward!L2 -> 0
A3: cAMP | B3: =reverse!B3-forward!B3 -> 0 | C3: =reverse!C3-forward!C3 -> 1 | D3: =reverse!D3-forward!D3 -> 0 | E3: =reverse!E3-forward!E3 -> 1 | F3: =reverse!F3-forward!F3 -> 0 | G3: =reverse!G3-forward!G3 -> 1 | H3: =reverse!H3-forward!H3 -> -1 | I3: =reverse!I3-forward!I3 -> 0 | ... L3: =reverse!L3-forward!L3 -> 0
A4: AC | B4: =reverse!B4-forward!B4 -> -1 | C4: =reverse!C4-forward!C4 -> 1 | D4: =reverse!D4-forward!D4 -> 0 | E4: =reverse!E4-forward!E4 -> 0 | F4: =reverse!F4-forward!F4 -> 0 | G4: =reverse!G4-forward!G4 -> 0 | H4: =reverse!H4-forward!H4 -> 0 | I4: =reverse!I4-forward!I4 -> 0 | ... L4: =reverse!L4-forward!L4 -> -1
A5: ATP_AC | B5: =reverse!B5-forward!B5 -> 1 | C5: =reverse!C5-forward!C5 -> -1 | D5: =reverse!D5-forward!D5 -> 0 | E5: =reverse!E5-forward!E5 -> 0 | F5: =reverse!F5-forward!F5 -> 0 | G5: =reverse!G5-forward!G5 -> 0 | H5: =reverse!H5-forward!H5 -> 0 | I5: =reverse!I5-forward!I5 -> 0 | ... L5: =reverse!L5-forward!L5 -> 0
A6: GsaGTPAC | B6: =reverse!B6-forward!B6 -> 0 | C6: =reverse!C6-forward!C6 -> 0 | D6: =reverse!D6-forward!D6 -> -1 | E6: =reverse!E6-forward!E6 -> 1 | F6: =reverse!F6-forward!F6 -> 0 | G6: =reverse!G6-forward!G6 -> 0 | H6: =reverse!H6-forward!H6 -> 0 | I6: =reverse!I6-forward!I6 -> 0 | ... L6: =reverse!L6-forward!L6 -> 0
A7: GsaGTPAC_ATP | B7: =reverse!B7-forward!B7 -> 0 | C7: =reverse!C7-forward!C7 -> 0 | D7: =reverse!D7-forward!D7 -> 1 | E7: =reverse!E7-forward!E7 -> -1 | F7: =reverse!F7-forward!F7 -> 0 | G7: =reverse!G7-forward!G7 -> 0 | H7: =reverse!H7-forward!H7 -> 0 | I7: =reverse!I7-forward!I7 -> 0 | ... L7: =reverse!L7-forward!L7 -> 0
A8: FSKAC | B8: =reverse!B8-forward!B8 -> 0 | C8: =reverse!C8-forward!C8 -> 0 | D8: =reverse!D8-forward!D8 -> 0 | E8: =reverse!E8-forward!E8 -> 0 | F8: =reverse!F8-forward!F8 -> -1 | G8: =reverse!G8-forward!G8 -> 1 | H8: =reverse!H8-forward!H8 -> 0 | I8: =reverse!I8-forward!I8 -> 0 | ... L8: =reverse!L8-forward!L8 -> 1
A9: FSKAC_ATP | B9: =reverse!B9-forward!B9 -> 0 | C9: =reverse!C9-forward!C9 -> 0 | D9: =reverse!D9-forward!D9 -> 0 | E9: =reverse!E9-forward!E9 -> 0 | F9: =reverse!F9-forward!F9 -> 1 | G9: =reverse!G9-forward!G9 -> -1 | H9: =reverse!H9-forward!H9 -> 0 | I9: =reverse!I9-forward!I9 -> 0 | ... L9: =reverse!L9-forward!L9 -> 0
A10: PDE | B10: =reverse!B10-forward!B10 -> 0 | C10: =reverse!C10-forward!C10 -> 0 | D10: =reverse!D10-forward!D10 -> 0 | E10: =reverse!E10-forward!E10 -> 0 | F10: =reverse!F10-forward!F10 -> 0 | G10: =reverse!G10-forward!G10 -> 0 | H10: =reverse!H10-forward!H10 -> -1 | I10: =reverse!I10-forward!I10 -> 1 | ... L10: =reverse!L10-forward!L10 -> 0
A11: PDE_cAMP | B11: =reverse!B11-forward!B11 -> 0 | C11: =reverse!C11-forward!C11 -> 0 | D11: =reverse!D11-forward!D11 -> 0 | E11: =reverse!E11-forward!E11 -> 0 | F11: =reverse!F11-forward!F11 -> 0 | G11: =reverse!G11-forward!G11 -> 0 | H11: =reverse!H11-forward!H11 -> 1 | I11: =reverse!I11-forward!I11 -> -1 | ... L11: =reverse!L11-forward!L11 -> 0
A12: 5AMP | B12: =reverse!B12-forward!B12 -> 0 | C12: =reverse!C12-forward!C12 -> 0 | D12: =reverse!D12-forward!D12 -> 0 | E12: =reverse!E12-forward!E12 -> 0 | F12: =reverse!F12-forward!F12 -> 0 | G12: =reverse!G12-forward!G12 -> 0 | H12: =reverse!H12-forward!H12 -> 0 | I12: =reverse!I12-forward!I12 -> 1 | ... L12: =reverse!L12-forward!L12 -> 0
A13: IBMX | B13: =reverse!B13-forward!B13 -> 0 | C13: =reverse!C13-forward!C13 -> 0 | D13: =reverse!D13-forward!D13 -> 0 | E13: =reverse!E13-forward!E13 -> 0 | F13: =reverse!F13-forward!F13 -> 0 | G13: =reverse!G13-forward!G13 -> 0 | H13: =reverse!H13-forward!H13 -> 0 | I13: =reverse!I13-forward!I13 -> 0 | ... L13: =reverse!L13-forward!L13 -> 0
... A16: FSK | B16: =reverse!B16-forward!B16 -> 0 | C16: =reverse!C16-forward!C16 -> 0 | D16: =reverse!D16-forward!D16 -> 0 | E16: =reverse!E16-forward!E16 -> 0 | F16: =reverse!F16-forward!F16 -> 0 | G16: =reverse!G16-forward!G16 -> 0 | H16: =reverse!H16-forward!H16 -> 0 | I16: =reverse!I16-forward!I16 -> 0 | ... L16: =reverse!L16-forward!L16 -> -1

Sheet type1_Forward
B1: R1 | C1: R2
A2: ATP | B2: 1 | C2: 0
A3: cAMP | B3: 0 | C3: 0
A4: AC | B4: 1 | C4: 0
A5: ATP_AC | B5: 0 | C5: 1

Sheet type1_Reverse
B1: R1 | C1: R2
A2: ATP | B2: 0 | C2: 0
A3: cAMP | B3: 0 | C3: 1
A4: AC | B4: 0 | C4: 1
A5: ATP_AC | B5: 1 | C5: 0

Sheet type1_Difference
B1: R1 | C1: R2
A2: ATP | B2: =type1_Reverse!B2-type1_Forward!B2 -> -1 | C2: =type1_Reverse!C2-type1_Forward!C2 -> 0
A3: cAMP | B3: =type1_Reverse!B3-type1_Forward!B3 -> 0 | C3: =type1_Reverse!C3-type1_Forward!C3 -> 1
A4: AC | B4: =type1_Reverse!B4-type1_Forward!B4 -> -1 | C4: =type1_Reverse!C4-type1_Forward!C4 -> 1
A5: ATP_AC | B5: =type1_Reverse!B5-type1_Forward!B5 -> 1 | C5: =type1_Reverse!C5-type1_Forward!C5 -> -1

Sheet type2_forward
B1: R1
A2: PDE | B2: 1
A3: IBMX | B3: 1
A4: PDEinh | B4: 0

Sheet type2_reverse
B1: R1
A2: PDE | B2: 0
A3: IBMX | B3: 0
A4: PDEinh | B4: 1

Sheet type2_difference
B1: R1
A2: PDE | B2: =type2_reverse!B2-type2_forward!B2 -> -1
A3: IBMX | B3: =type2_reverse!B3-type2_forward!B3 -> -1
A4: PDEinh | B4: =type2_reverse!B4-type2_forward!B4 -> 1
