Workbook

Sheet Forward
B1: R_RyR | C1: R_OC | D1: R_CCI | E1: R_CII | F1: R_IO
A2: Ca_SR | B2: 1 | C2: 0 | D2: 0 | E2: 0 | F2: 0
A3: Ca_di | B3: 0 | C3: 0 | D3: 0 | E3: 0 | F3: 0
A4: C | B4: 0 | C4: 0 | D4: 1 | E4: 0 | F4: 0
A5: CI | B5: 0 | C5: 0 | D5: 0 | E5: 1 | F5: 0
A6: I | B6: 0 | C6: 0 | D6: 0 | E6: 0 | F6: 1
A7: O | B7: 0 | C7: 1 | D7: 0 | E7: 0 | F7: 0

Sheet Reverse
B1: R_RyR | C1: R_OC | D1: R_CCI | E1: R_CII | F1: R_IO
A2: Ca_SR | B2: 0 | C2: 0 | D2: 0 | E2: 0 | F2: 0
A3: Ca_di | B3: 1 | C3: 0 | D3: 0 | E3: 0 | F3: 0
A4: C | B4: 0 | C4: 1 | D4: 0 | E4: 0 | F4: 0
A5: CI | B5: 0 | C5: 0 | D5: 1 | E5: 0 | F5: 0
A6: I | B6: 0 | C6: 0 | D6: 0 | E6: 1 | F6: 0
A7: O | B7: 0 | C7: 0 | D7: 0 | E7: 0 | F7: 1

Sheet Difference
B1: R_RyR | C1: R_OC | D1: R_CCI | E1: R_CII | F1: R_IO
A2: Ca_SR | B2: =Reverse!B2-Forward!B2 -> -1 | C2: =Reverse!C2-Forward!C2 -> 0 | D2: =Reverse!D2-Forward!D2 -> 0 | E2: =Reverse!E2-Forward!E2 -> 0 | F2: =Reverse!F2-Forward!F2 -> 0
A3: Ca_di | B3: =Reverse!B3-Forward!B3 -> 1 | C3: =Reverse!C3-Forward!C3 -> 0 | D3: =Reverse!D3-Forward!D3 -> 0 | E3: =Reverse!E3-Forward!E3 -> 0 | F3: =Reverse!F3-Forward!F3 -> 0
A4: C | B4: =Reverse!B4-Forward!B4 -> 0 | C4: =Reverse!C4-Forward!C4 -> 1 | D4: =Reverse!D4-Forward!D4 -> -1 | E4: =Reverse!E4-Forward!E4 -> 0 | F4: =Reverse!F4-Forward!F4 -> 0
A5: CI | B5: =Reverse!B5-Forward!B5 -> 0 | C5: =Reverse!C5-Forward!C5 -> 0 | D5: =Reverse!D5-Forward!D5 -> 1 | E5: =Reverse!E5-Forward!E5 -> -1 | F5: =Reverse!F5-Forward!F5 -> 0
A6: I | B6: =Reverse!B6-Forward!B6 -> 0 | C6: =Reverse!C6-Forward!C6 -> 0 | D6: =Reverse!D6-Forward!D6 -> 0 | E6: =Reverse!E6-Forward!E6 -> 1 | F6: =Reverse!F6-Forward!F6 -> -1
A7: O | B7: =Reverse!B7-Forward!B7 -> 0 | C7: =Reverse!C7-Forward!C7 -> -1 | D7: =Reverse!D7-Forward!D7 -> 0 | E7: =Reverse!E7-Forward!E7 -> 0 | F7: =Reverse!F7-Forward!F7 -> 1
