Workbook

Sheet forward
B1: RB11 | C1: RB12 | D1: RB21 | E1: RB22 | F1: RP1 | G1: RP2
A2: LR | B2: 1 | C2: 0 | D2: 0 | E2: 0 | F2: 0 | G2: 0
A3: LRG | B3: 0 | C3: 0 | D3: 1 | E3: 0 | F3: 0 | G3: 0
A4: B1d | B4: 0 | C4: 0 | D4: 0 | E4: 0 | F4: 0 | G4: 0
A5: BARK | B5: 1 | C5: 0 | D5: 1 | E5: 0 | F5: 0 | G5: 0
A6: LR_BARK | B6: 0 | C6: 1 | D6: 0 | E6: 0 | F6: 0 | G6: 0
A7: LRG_BARK | B7: 0 | C7: 0 | D7: 0 | E7: 1 | F7: 0 | G7: 0
A8: B1p | B8: 0 | C8: 0 | D8: 0 | E8: 0 | F8: 1 | G8: 0
A9: B1tot | B9: 0 | C9: 0 | D9: 0 | E9: 0 | F9: 0 | G9: 0
A10: PKACI | B10: 0 | C10: 0 | D10: 0 | E10: 0 | F10: 1 | G10: 0
A11: PKACI_B1p | B11: 0 | C11: 0 | D11: 0 | E11: 0 | F11: 0 | G11: 1
A16: with GsGDP merged into G
A17: with Sig scheme

Sheet reverse
B1: RB11 | C1: RB12 | D1: RB21 | E1: RB22 | F1: RP1 | G1: RP2
A2: LR | B2: 0 | C2: 0 | D2: 0 | E2: 0 | F2: 0 | G2: 0
A3: LRG | B3: 0 | C3: 0 | D3: 0 | E3: 0 | F3: 0 | G3: 0
A4: B1d | B4: 0 | C4: 1 | D4: 0 | E4: 1 | F4: 0 | G4: 0
A5: BARK | B5: 0 | C5: 1 | D5: 0 | E5: 1 | F5: 0 | G5: 0
A6: LR_BARK | B6: 1 | C6: 0 | D6: 0 | E6: 0 | F6: 0 | G6: 0
A7: LRG_BARK | B7: 0 | C7: 0 | D7: 1 | E7: 0 | F7: 0 | G7: 0
A8: B1p | B8: 0 | C8: 0 | D8: 0 | E8: 0 | F8: 0 | G8: 0
A9: B1tot | B9: 0 | C9: 0 | D9: 0 | E9: 0 | F9: 0 | G9: 1
A10: PKACI | B10: 0 | C10: 0 | D10: 0 | E10: 0 | F10: 0 | G10: 1
A11: PKACI_B1p | B11: 0 | C11: 0 | D11: 0 | E11: 0 | F11: 1 | G11: 0

Sheet difference
B1: RB11 | C1: RB12 | D1: RB21 | E1: RB22 | F1: RP1 | G1: RP2
A2: LR | B2: =reverse!B2-forward!B2 -> -1 | C2: =reverse!C2-forward!C2 -> 0 | D2: =reverse!D2-forward!D2 -> 0 | E2: =reverse!E2-forward!E2 -> 0 | F2: =reverse!F2-forward!F2 -> 0 | G2: =reverse!G2-forward!G2 -> 0
A3: LRG | B3: =reverse!B3-forward!B3 -> 0 | C3: =reverse!C3-forward!C3 -> 0 | D3: =reverse!D3-forward!D3 -> -1 | E3: =reverse!E3-forward!E3 -> 0 | F3: =reverse!F3-forward!F3 -> 0 | G3: =reverse!G3-forward!G3 -> 0
A4: B1d | B4: =reverse!B4-forward!B4 -> 0 | C4: =reverse!C4-forward!C4 -> 1 | D4: =reverse!D4-forward!D4 -> 0 | E4: =reverse!E4-forward!E4 -> 1 | F4: =reverse!F4-forward!F4 -> 0 | G4: =reverse!G4-forward!G4 -> 0
A5: BARK | B5: =reverse!B5-forward!B5 -> -1 | C5: =reverse!C5-forward!C5 -> 1 | D5: =reverse!D5-forward!D5 -> -1 | E5: =reverse!E5-forward!E5 -> 1 | F5: =reverse!F5-forward!F5 -> 0 | G5: =reverse!G5-forward!G5 -> 0
A6: LR_BARK | B6: =reverse!B6-forward!B6 -> 1 | C6: =reverse!C6-forward!C6 -> -1 | D6: =reverse!D6-forward!D6 -> 0 | E6: =reverse!E6-forward!E6 -> 0 | F6: =reverse!F6-forward!F6 -> 0 | G6: =reverse!G6-forward!G6 -> 0
A7: LRG_BARK | B7: =reverse!B7-forward!B7 -> 0 | C7: =reverse!C7-forward!C7 -> 0 | D7: =reverse!D7-forward!D7 -> 1 | E7: =reverse!E7-forward!E7 -> -1 | F7: =reverse!F7-forward!F7 -> 0 | G7: =reverse!G7-forward!G7 -> 0
A8: B1p | B8: =reverse!B8-forward!B8 -> 0 | C8: =reverse!C8-forward!C8 -> 0 | D8: =reverse!D8-forward!D8 -> 0 | E8: =reverse!E8-forward!E8 -> 0 | F8: =reverse!F8-forward!F8 -> -1 | G8: =reverse!G8-forward!G8 -> 0
A9: B1tot | B9: =reverse!B9-forward!B9 -> 0 | C9: =reverse!C9-forward!C9 -> 0 | D9: =reverse!D9-forward!D9 -> 0 | E9: =reverse!E9-forward!E9 -> 0 | F9: =reverse!F9-forward!F9 -> 0 | G9: =reverse!G9-forward!G9 -> 1
A10: PKACI | B10: =reverse!B10-forward!B10 -> 0 | C10: =reverse!C10-forward!C10 -> 0 | D10: =reverse!D10-forward!D10 -> 0 | E10: =reverse!E10-forward!E10 -> 0 | F10: =reverse!F10-forward!F10 -> -1 | G10: =reverse!G10-forward!G10 -> 1
A11: PKACI_B1p | B11: =reverse!B11-forward!B11 -> 0 | C11: =reverse!C11-forward!C11 -> 0 | D11: =reverse!D11-forward!D11 -> 0 | E11: =reverse!E11-forward!E11 -> 0 | F11: =reverse!F11-forward!F11 -> 1 | G11: =reverse!G11-forward!G11 -> -1

Sheet forward_withSig
B1: Rsig1 | C1: Rsig2 | D1: Rsig3 | E1: Rsig4
A2: L | B2: 0 | C2: 1 | D2: 0 | E2: 0
A3: R | B3: 1 | C3: 0 | D3: 0 | E3: 0
A4: G | B4: 1 | C4: 0 | D4: 0 | E4: 0
A5: LR | B5: 0 | C5: 0 | D5: 0 | E5: 1
A6: RG | B6: 0 | C6: 1 | D6: 0 | E6: 0
A7: LRG | B7: 0 | C7: 0 | D7: 1 | E7: 0
A12: with GsGDP merged into G
A13: with Sig scheme (L,R,G,RG)

Sheet reverse_withSig
B1: Rsig1 | C1: Rsig2 | D1: Rsig3 | E1: Rsig4
A2: L | B2: 0 | C2: 0 | D2: 0 | E2: 1
A3: R | B3: 0 | C3: 0 | D3: 0 | E3: 1
A4: G | B4: 0 | C4: 0 | D4: 1 | E4: 0
A5: LR | B5: 0 | C5: 0 | D5: 1 | E5: 0
A6: RG | B6: 1 | C6: 0 | D6: 0 | E6: 0
A7: LRG | B7: 0 | C7: 1 | D7: 0 | E7: 0

Sheet difference_withSig
B1: Rsig1 | C1: Rsig2 | D1: Rsig3 | E1: Rsig4
A2: L | B2: =reverse_withSig!B2-forward_withSig!B2 -> 0 | C2: =reverse_withSig!C2-forward_withSig!C2 -> -1 | D2: =reverse_withSig!D2-forward_withSig!D2 -> 0 | E2: =reverse_withSig!E2-forward_withSig!E2 -> 1
A3: R | B3: =reverse_withSig!B3-forward_withSig!B3 -> -1 | C3: =reverse_withSig!C3-forward_withSig!C3 -> 0 | D3: =reverse_withSig!D3-forward_withSig!D3 -> 0 | E3: =reverse_withSig!E3-forward_withSig!E3 -> 1
A4: G | B4: =reverse_withSig!B4-forward_withSig!B4 -> -1 | C4: =reverse_withSig!C4-forward_withSig!C4 -> 0 | D4: =reverse_withSig!D4-forward_withSig!D4 -> 1 | E4: =reverse_withSig!E4-forward_withSig!E4 -> 0
A5: LR | B5: =reverse_withSig!B5-forward_withSig!B5 -> 0 | C5: =reverse_withSig!C5-forward_withSig!C5 -> 0 | D5: =reverse_withSig!D5-forward_withSig!D5 -> 1 | E5: =reverse_withSig!E5-forward_withSig!E5 -> -1
A6: RG | B6: =reverse_withSig!B6-forward_withSig!B6 -> 1 | C6: =reverse_withSig!C6-forward_withSig!C6 -> -1 | D6: =reverse_withSig!D6-forward_withSig!D6 -> 0 | E6: =reverse_withSig!E6-forward_withSig!E6 -> 0
A7: LRG | B7: =reverse_withSig!B7-forward_withSig!B7 -> 0 | C7: =reverse_withSig!C7-forward_withSig!C7 -> 1 | D7: =reverse_withSig!D7-forward_withSig!D7 -> -1 | E7: =reverse_withSig!E7-forward_withSig!E7 -> 0
