Workbook

Sheet forward
B1: Rsig1 | C1: Rsig2 | D1: Rsig3 | E1: Rsig4 | F1: RB11 | G1: RB12 | H1: RB21 | I1: RB22 | J1: RP1 | K1: RP2 | L1: Ract1 | M1: Ract2 | N1: Rhyd | O1: Rreassoc
A2: L | B2: 0 | C2: 1 | D2: 0 | E2: 1 | F2: 0 | G2: 0 | H2: 0 | I2: 0 | J2: 0 | K2: 0 | L2: 0 | M2: 0 | N2: 0 | O2: 0
A3: R | B3: 1 | C3: 1 | D3: 0 | E3: 0 | F3: 0 | G3: 0 | H3: 0 | I3: 0 | J3: 0 | K3: 0 | L3: 0 | M3: 0 | N3: 0 | O3: 0
A4: G | B4: 1 | C4: 0 | D4: 1 | E4: 0 | F4: 0 | G4: 0 | H4: 0 | I4: 0 | J4: 0 | K4: 0 | L4: 0 | M4: 0 | N4: 0 | O4: 0
A5: LR | B5: 0 | C5: 0 | D5: 1 | E5: 0 | F5: 1 | G5: 0 | H5: 0 | I5: 0 | J5: 0 | K5: 0 | L5: 0 | M5: 0 | N5: 0 | O5: 0
A6: RG | B6: 0 | C6: 0 | D6: 0 | E6: 1 | F6: 0 | G6: 0 | H6: 0 | I6: 0 | J6: 0 | K6: 0 | L6: 1 | M6: 0 | N6: 0 | O6: 0
A7: LRG | B7: 0 | C7: 0 | D7: 0 | E7: 0 | F7: 0 | G7: 0 | H7: 1 | I7: 0 | J7: 0 | K7: 0 | L7: 0 | M7: 0 | N7: 0 | O7: 0
A8: B1d | B8: 0 | C8: 0 | D8: 0 | E8: 0 | F8: 0 | G8: 0 | H8: 0 | I8: 0 | J8: 0 | K8: 0 | L8: 0 | M8: 0 | N8: 0 | O8: 0
A9: BARK | B9: 0 | C9: 0 | D9: 0 | E9: 0 | F9: 1 | G9: 0 | H9: 1 | I9: 0 | J9: 0 | K9: 0 | L9: 0 | M9: 0 | N9: 0 | O9: 0
A10: LR_BARK | B10: 0 | C10: 0 | D10: 0 | E10: 0 | F10: 0 | G10: 1 | H10: 0 | I10: 0 | J10: 0 | K10: 0 | L10: 0 | M10: 0 | N10: 0 | O10: 0
A11: LRG_BARK | B11: 0 | C11: 0 | D11: 0 | E11: 0 | F11: 0 | G11: 0 | H11: 0 | I11: 1 | J11: 0 | K11: 0 | L11: 0 | M11: 0 | N11: 0 | O11: 0
A12: B1p | B12: 0 | C12: 0 | D12: 0 | E12: 0 | F12: 0 | G12: 0 | H12: 0 | I12: 0 | J12: 1 | K12: 0 | L12: 0 | M12: 0 | N12: 0 | O12: 0
A13: B1tot | B13: 0 | C13: 0 | D13: 0 | E13: 0 | F13: 0 | G13: 0 | H13: 0 | I13: 0 | J13: 0 | K13: 0 | L13: 0 | M13: 0 | N13: 0 | O13: 0
... A20: Pi | B20: 0 | C20: 0 | D20: 0 | E20: 0 | F20: 0 | G20: 0 | H20: 0 | I20: 0 | J20: 0 | K20: 0 | L20: 0 | M20: 0 | N20: 0 | O20: 0

Sheet reverse
B1: Rsig1 | C1: Rsig2 | D1: Rsig3 | E1: Rsig4 | F1: RB11 | G1: RB12 | H1: RB21 | I1: RB22 | J1: RP1 | K1: RP2 | L1: Ract1 | M1: Ract2 | N1: Rhyd | O1: Rreassoc
A2: L | B2: 0 | C2: 0 | D2: 0 | E2: 0 | F2: 0 | G2: 0 | H2: 0 | I2: 0 | J2: 0 | K2: 0 | L2: 0 | M2: 0 | N2: 0 | O2: 0
A3: R | B3: 0 | C3: 0 | D3: 0 | E3: 0 | F3: 0 | G3: 0 | H3: 0 | I3: 0 | J3: 0 | K3: 0 | L3: 0 | M3: 0 | N3: 0 | O3: 0
A4: G | B4: 0 | C4: 0 | D4: 0 | E4: 0 | F4: 0 | G4: 0 | H4: 0 | I4: 0 | J4: 0 | K4: 0 | L4: 0 | M4: 0 | N4: 0 | O4: 0
A5: LR | B5: 0 | C5: 1 | D5: 0 | E5: 0 | F5: 0 | G5: 0 | H5: 0 | I5: 0 | J5: 0 | K5: 0 | L5: 0 | M5: 0 | N5: 0 | O5: 0
A6: RG | B6: 1 | C6: 0 | D6: 0 | E6: 0 | F6: 0 | G6: 0 | H6: 0 | I6: 0 | J6: 0 | K6: 0 | L6: 0 | M6: 0 | N6: 0 | O6: 0
A7: LRG | B7: 0 | C7: 0 | D7: 1 | E7: 1 | F7: 0 | G7: 0 | H7: 0 | I7: 0 | J7: 0 | K7: 0 | L7: 0 | M7: 1 | N7: 0 | O7: 0
A8: B1d | B8: 0 | C8: 0 | D8: 0 | E8: 0 | F8: 0 | G8: 1 | H8: 0 | I8: 1 | J8: 0 | K8: 0 | L8: 0 | M8: 0 | N8: 0 | O8: 0
A9: BARK | B9: 0 | C9: 0 | D9: 0 | E9: 0 | F9: 0 | G9: 1 | H9: 0 | I9: 1 | J9: 0 | K9: 0 | L9: 0 | M9: 0 | N9: 0 | O9: 0
A10: LR_BARK | B10: 0 | C10: 0 | D10: 0 | E10: 0 | F10: 1 | G10: 0 | H10: 0 | I10: 0 | J10: 0 | K10: 0 | L10: 0 | M10: 0 | N10: 0 | O10: 0
A11: LRG_BARK | B11: 0 | C11: 0 | D11: 0 | E11: 0 | F11: 0 | G11: 0 | H11: 1 | I11: 0 | J11: 0 | K11: 0 | L11: 0 | M11: 0 | N11: 0 | O11: 0
A12: B1p | B12: 0 | C12: 0 | D12: 0 | E12: 0 | F12: 0 | G12: 0 | H12: 0 | I12: 0 | J12: 0 | K12: 0 | L12: 0 | M12: 0 | N12: 0 | O12: 0
A13: B1tot | B13: 0 | C13: 0 | D13: 0 | E13: 0 | F13: 0 | G13: 0 | H13: 0 | I13: 0 | J13: 0 | K13: 1 | L13: 0 | M13: 0 | N13: 0 | O13: 0
... A20: Pi | B20: 0 | C20: 0 | D20: 0 | E20: 0 | F20: 0 | G20: 0 | H20: 0 | I20: 0 | J20: 0 | K20: 0 | L20: 0 | M20: 0 | N20: 1 | O20: 0

Sheet difference
B1: Rsig1 | C1: Rsig2 | D1: Rsig3 | E1: Rsig4 | F1: RB11 | G1: RB12 | H1: RB21 | I1: RB22 | J1: RP1 | K1: RP2 | L1: Ract1 | M1: Ract2 | N1: Rhyd | O1: Rreassoc
A2: L | B2: =reverse!B2-forward!B2 -> 0 | C2: =reverse!C2-forward!C2 -> -1 | D2: =reverse!D2-forward!D2 -> 0 | E2: =reverse!E2-forward!E2 -> -1 | F2: =reverse!F2-forward!F2 -> 0 | G2: =reverse!G2-forward!G2 -> 0 | H2: =reverse!H2-forward!H2 -> 0 | I2: =reverse!I2-forward!I2 -> 0 | ... O2: =reverse!O2-forward!O2 -> 0
A3: R | B3: =reverse!B3-forward!B3 -> -1 | C3: =reverse!C3-forward!C3 -> -1 | D3: =reverse!D3-forward!D3 -> 0 | E3: =reverse!E3-forward!E3 -> 0 | F3: =reverse!F3-forward!F3 -> 0 | G3: =reverse!G3-forward!G3 -> 0 | H3: =reverse!H3-forward!H3 -> 0 | I3: =reverse!I3-forward!I3 -> 0 | ... O3: =reverse!O3-forward!O3 -> 0
A4: G | B4: =reverse!B4-forward!B4 -> -1 | C4: =reverse!C4-forward!C4 -> 0 | D4: =reverse!D4-forward!D4 -> -1 | E4: =reverse!E4-forward!E4 -> 0 | F4: =reverse!F4-forward!F4 -> 0 | G4: =reverse!G4-forward!G4 -> 0 | H4: =reverse!H4-forward!H4 -> 0 | I4: =reverse!I4-forward!I4 -> 0 | ... O4: =reverse!O4-forward!O4 -> 0
A5: LR | B5: =reverse!B5-forward!B5 -> 0 | C5: =reverse!C5-forward!C5 -> 1 | D5: =reverse!D5-forward!D5 -> -1 | E5: =reverse!E5-forward!E5 -> 0 | F5: =reverse!F5-forward!F5 -> -1 | G5: =reverse!G5-forward!G5 -> 0 | H5: =reverse!H5-forward!H5 -> 0 | I5: =reverse!I5-forward!I5 -> 0 | ... O5: =reverse!O5-forward!O5 -> 0
A6: RG | B6: =reverse!B6-forward!B6 -> 1 | C6: =reverse!C6-forward!C6 -> 0 | D6: =reverse!D6-forward!D6 -> 0 | E6: =reverse!E6-forward!E6 -> -1 | F6: =reverse!F6-forward!F6 -> 0 | G6: =reverse!G6-forward!G6 -> 0 | H6: =reverse!H6-forward!H6 -> 0 | I6: =reverse!I6-forward!I6 -> 0 | ... O6: =reverse!O6-forward!O6 -> 0
A7: LRG | B7: =reverse!B7-forward!B7 -> 0 | C7: =reverse!C7-forward!C7 -> 0 | D7: =reverse!D7-forward!D7 -> 1 | E7: =reverse!E7-forward!E7 -> 1 | F7: =reverse!F7-forward!F7 -> 0 | G7: =reverse!G7-forward!G7 -> 0 | H7: =reverse!H7-forward!H7 -> -1 | I7: =reverse!I7-forward!I7 -> 0 | ... O7: =reverse!O7-forward!O7 -> 0
A8: B1d | B8: =reverse!B8-forward!B8 -> 0 | C8: =reverse!C8-forward!C8 -> 0 | D8: =reverse!D8-forward!D8 -> 0 | E8: =reverse!E8-forward!E8 -> 0 | F8: =reverse!F8-forward!F8 -> 0 | G8: =reverse!G8-forward!G8 -> 1 | H8: =reverse!H8-forward!H8 -> 0 | I8: =reverse!I8-forward!I8 -> 1 | ... O8: =reverse!O8-forward!O8 -> 0
A9: BARK | B9: =reverse!B9-forward!B9 -> 0 | C9: =reverse!C9-forward!C9 -> 0 | D9: =reverse!D9-forward!D9 -> 0 | E9: =reverse!E9-forward!E9 -> 0 | F9: =reverse!F9-forward!F9 -> -1 | G9: =reverse!G9-forward!G9 -> 1 | H9: =reverse!H9-forward!H9 -> -1 | I9: =reverse!I9-forward!I9 -> 1 | ... O9: =reverse!O9-forward!O9 -> 0
A10: LR_BARK | B10: =reverse!B10-forward!B10 -> 0 | C10: =reverse!C10-forward!C10 -> 0 | D10: =reverse!D10-forward!D10 -> 0 | E10: =reverse!E10-forward!E10 -> 0 | F10: =reverse!F10-forward!F10 -> 1 | G10: =reverse!G10-forward!G10 -> -1 | H10: =reverse!H10-forward!H10 -> 0 | I10: =reverse!I10-forward!I10 -> 0 | ... O10: =reverse!O10-forward!O10 -> 0
A11: LRG_BARK | B11: =reverse!B11-forward!B11 -> 0 | C11: =reverse!C11-forward!C11 -> 0 | D11: =reverse!D11-forward!D11 -> 0 | E11: =reverse!E11-forward!E11 -> 0 | F11: =reverse!F11-forward!F11 -> 0 | G11: =reverse!G11-forward!G11 -> 0 | H11: =reverse!H11-forward!H11 -> 1 | I11: =reverse!I11-forward!I11 -> -1 | ... O11: =reverse!O11-forward!O11 -> 0
A12: B1p | B12: =reverse!B12-forward!B12 -> 0 | C12: =reverse!C12-forward!C12 -> 0 | D12: =reverse!D12-forward!D12 -> 0 | E12: =reverse!E12-forward!E12 -> 0 | F12: =reverse!F12-forward!F12 -> 0 | G12: =reverse!G12-forward!G12 -> 0 | H12: =reverse!H12-forward!H12 -> 0 | I12: =reverse!I12-forward!I12 -> 0 | ... O12: =reverse!O12-forward!O12 -> 0
A13: B1tot | B13: =reverse!B13-forward!B13 -> 0 | C13: =reverse!C13-forward!C13 -> 0 | D13: =reverse!D13-forward!D13 -> 0 | E13: =reverse!E13-forward!E13 -> 0 | F13: =reverse!F13-forward!F13 -> 0 | G13: =reverse!G13-forward!G13 -> 0 | H13: =reverse!H13-forward!H13 -> 0 | I13: =reverse!I13-forward!I13 -> 0 | ... O13: =reverse!O13-forward!O13 -> 0
... A20: Pi | B20: =reverse!B20-forward!B20 -> 0 | C20: =reverse!C20-forward!C20 -> 0 | D20: =reverse!D20-forward!D20 -> 0 | E20: =reverse!E20-forward!E20 -> 0 | F20: =reverse!F20-forward!F20 -> 0 | G20: =reverse!G20-forward!G20 -> 0 | H20: =reverse!H20-forward!H20 -> 0 | I20: =reverse!I20-forward!I20 -> 0 | ... O20: =reverse!O20-forward!O20 -> 0
