Workbook

Sheet Forward
B1: R1-2 | C1: R2-4 | D1: R2-2a | E1: R4-5 | F1: R5-6 | G1: R6-8 | H1: R8-9 | I1: R9-10 | J1: R10-1
A2: P1 | B2: 1 | C2: 0 | D2: 0 | E2: 0 | F2: 0 | G2: 0 | H2: 0 | I2: 0 | J2: 0
A3: P2 | B3: 0 | C3: 1 | D3: 1 | E3: 0 | F3: 0 | G3: 0 | H3: 0 | I3: 0 | J3: 0
A4: P2a | B4: 0 | C4: 0 | D4: 0 | E4: 0 | F4: 0 | G4: 0 | H4: 0 | I4: 0 | J4: 0
A5: P4 | B5: 0 | C5: 0 | D5: 0 | E5: 1 | F5: 0 | G5: 0 | H5: 0 | I5: 0 | J5: 0
A6: P5 | B6: 0 | C6: 0 | D6: 0 | E6: 0 | F6: 1 | G6: 0 | H6: 0 | I6: 0 | J6: 0
A7: P6 | B7: 0 | C7: 0 | D7: 0 | E7: 0 | F7: 0 | G7: 1 | H7: 0 | I7: 0 | J7: 0
A8: P8 | B8: 0 | C8: 0 | D8: 0 | E8: 0 | F8: 0 | G8: 0 | H8: 1 | I8: 0 | J8: 0
A9: P9 | B9: 0 | C9: 0 | D9: 0 | E9: 0 | F9: 0 | G9: 0 | H9: 0 | I9: 1 | J9: 0
A10: P10 | B10: 0 | C10: 0 | D10: 0 | E10: 0 | F10: 0 | G10: 0 | H10: 0 | I10: 0 | J10: 1
A11: H+ | B11: 0 | C11: 0 | D11: 1 | E11: 0 | F11: 0 | G11: 0 | H11: 2 | I11: 0 | J11: 0
A12: Ca2+i | B12: 0 | C12: 2 | D12: 0 | E12: 0 | F12: 0 | G12: 0 | H12: 0 | I12: 0 | J12: 0
A13: Ca2+sr | B13: 0 | C13: 0 | D13: 0 | E13: 0 | F13: 0 | G13: 0 | H13: 0 | I13: 0 | J13: 0
... A16: Pi | B16: 0 | C16: 0 | D16: 0 | E16: 0 | F16: 0 | G16: 0 | H16: 0 | I16: 0 | J16: 0

Sheet Reverse
B1: R1-2 | C1: R2-4 | D1: R2-2a | E1: R4-5 | F1: R5-6 | G1: R6-8 | H1: R8-9 | I1: R9-10 | J1: R10-1
A2: P1 | B2: 0 | C2: 0 | D2: 0 | E2: 0 | F2: 0 | G2: 0 | H2: 0 | I2: 0 | J2: 1
A3: P2 | B3: 1 | C3: 0 | D3: 0 | E3: 0 | F3: 0 | G3: 0 | H3: 0 | I3: 0 | J3: 0
A4: P2a | B4: 0 | C4: 0 | D4: 1 | E4: 0 | F4: 0 | G4: 0 | H4: 0 | I4: 0 | J4: 0
A5: P4 | B5: 0 | C5: 1 | D5: 0 | E5: 0 | F5: 0 | G5: 0 | H5: 0 | I5: 0 | J5: 0
A6: P5 | B6: 0 | C6: 0 | D6: 0 | E6: 1 | F6: 0 | G6: 0 | H6: 0 | I6: 0 | J6: 0
A7: P6 | B7: 0 | C7: 0 | D7: 0 | E7: 0 | F7: 1 | G7: 0 | H7: 0 | I7: 0 | J7: 0
A8: P8 | B8: 0 | C8: 0 | D8: 0 | E8: 0 | F8: 0 | G8: 1 | H8: 0 | I8: 0 | J8: 0
A9: P9 | B9: 0 | C9: 0 | D9: 0 | E9: 0 | F9: 0 | G9: 0 | H9: 1 | I9: 0 | J9: 0
A10: P10 | B10: 0 | C10: 0 | D10: 0 | E10: 0 | F10: 0 | G10: 0 | H10: 0 | I10: 1 | J10: 0
A11: H+ | B11: 0 | C11: 0 | D11: 0 | E11: 2 | F11: 0 | G11: 0 | H11: 0 | I11: 1 | J11: 0
A12: Ca2+i | B12: 0 | C12: 0 | D12: 0 | E12: 0 | F12: 0 | G12: 0 | H12: 0 | I12: 0 | J12: 0
A13: Ca2+sr | B13: 0 | C13: 0 | D13: 0 | E13: 0 | F13: 0 | G13: 2 | H13: 0 | I13: 0 | J13: 0
... A16: Pi | B16: 0 | C16: 0 | D16: 0 | E16: 0 | F16: 0 | G16: 0 | H16: 0 | I16: 0 | J16: 1

Sheet Difference
B1: R1-2 | C1: R2-4 | D1: R2-2a | E1: R4-5 | F1: R5-6 | G1: R6-8 | H1: R8-9 | I1: R9-10 | J1: R10-1
A2: P1 | B2: =Reverse!B2-Forward!B2 -> -1 | C2: =Reverse!C2-Forward!C2 -> 0 | D2: =Reverse!D2-Forward!D2 -> 0 | E2: =Reverse!E2-Forward!E2 -> 0 | F2: =Reverse!F2-Forward!F2 -> 0 | G2: =Reverse!G2-Forward!G2 -> 0 | H2: =Reverse!H2-Forward!H2 -> 0 | I2: =Reverse!I2-Forward!I2 -> 0 | J2: =Reverse!J2-Forward!J2 -> 1
A3: P2 | B3: =Reverse!B3-Forward!B3 -> 1 | C3: =Reverse!C3-Forward!C3 -> -1 | D3: =Reverse!D3-Forward!D3 -> -1 | E3: =Reverse!E3-Forward!E3 -> 0 | F3: =Reverse!F3-Forward!F3 -> 0 | G3: =Reverse!G3-Forward!G3 -> 0 | H3: =Reverse!H3-Forward!H3 -> 0 | I3: =Reverse!I3-Forward!I3 -> 0 | J3: =Reverse!J3-Forward!J3 -> 0
A4: P2a | B4: =Reverse!B4-Forward!B4 -> 0 | C4: =Reverse!C4-Forward!C4 -> 0 | D4: =Reverse!D4-Forward!D4 -> 1 | E4: =Reverse!E4-Forward!E4 -> 0 | F4: =Reverse!F4-Forward!F4 -> 0 | G4: =Reverse!G4-Forward!G4 -> 0 | H4: =Reverse!H4-Forward!H4 -> 0 | I4: =Reverse!I4-Forward!I4 -> 0 | J4: =Reverse!J4-Forward!J4 -> 0
A5: P4 | B5: =Reverse!B5-Forward!B5 -> 0 | C5: =Reverse!C5-Forward!C5 -> 1 | D5: =Reverse!D5-Forward!D5 -> 0 | E5: =Reverse!E5-Forward!E5 -> -1 | F5: =Reverse!F5-Forward!F5 -> 0 | G5: =Reverse!G5-Forward!G5 -> 0 | H5: =Reverse!H5-Forward!H5 -> 0 | I5: =Reverse!I5-Forward!I5 -> 0 | J5: =Reverse!J5-Forward!J5 -> 0
A6: P5 | B6: =Reverse!B6-Forward!B6 -> 0 | C6: =Reverse!C6-Forward!C6 -> 0 | D6: =Reverse!D6-Forward!D6 -> 0 | E6: =Reverse!E6-Forward!E6 -> 1 | F6: =Reverse!F6-Forward!F6 -> -1 | G6: =Reverse!G6-Forward!G6 -> 0 | H6: =Reverse!H6-Forward!H6 -> 0 | I6: =Reverse!I6-Forward!I6 -> 0 | J6: =Reverse!J6-Forward!J6 -> 0
A7: P6 | B7: =Reverse!B7-Forward!B7 -> 0 | C7: =Reverse!C7-Forward!C7 -> 0 | D7: =Reverse!D7-Forward!D7 -> 0 | E7: =Reverse!E7-Forward!E7 -> 0 | F7: =Reverse!F7-Forward!F7 -> 1 | G7: =Reverse!G7-Forward!G7 -> -1 | H7: =Reverse!H7-Forward!H7 -> 0 | I7: =Reverse!I7-Forward!I7 -> 0 | J7: =Reverse!J7-Forward!J7 -> 0
A8: P8 | B8: =Reverse!B8-Forward!B8 -> 0 | C8: =Reverse!C8-Forward!C8 -> 0 | D8: =Reverse!D8-Forward!D8 -> 0 | E8: =Reverse!E8-Forward!E8 -> 0 | F8: =Reverse!F8-Forward!F8 -> 0 | G8: =Reverse!G8-Forward!G8 -> 1 | H8: =Reverse!H8-Forward!H8 -> -1 | I8: =Reverse!I8-Forward!I8 -> 0 | J8: =Reverse!J8-Forward!J8 -> 0
A9: P9 | B9: =Reverse!B9-Forward!B9 -> 0 | C9: =Reverse!C9-Forward!C9 -> 0 | D9: =Reverse!D9-Forward!D9 -> 0 | E9: =Reverse!E9-Forward!E9 -> 0 | F9: =Reverse!F9-Forward!F9 -> 0 | G9: =Reverse!G9-Forward!G9 -> 0 | H9: =Reverse!H9-Forward!H9 -> 1 | I9: =Reverse!I9-Forward!I9 -> -1 | J9: =Reverse!J9-Forward!J9 -> 0
A10: P10 | B10: =Reverse!B10-Forward!B10 -> 0 | C10: =Reverse!C10-Forward!C10 -> 0 | D10: =Reverse!D10-Forward!D10 -> 0 | E10: =Reverse!E10-Forward!E10 -> 0 | F10: =Reverse!F10-Forward!F10 -> 0 | G10: =Reverse!G10-Forward!G10 -> 0 | H10: =Reverse!H10-Forward!H10 -> 0 | I10: =Reverse!I10-Forward!I10 -> 1 | J10: =Reverse!J10-Forward!J10 -> -1
A11: H+ | B11: =Reverse!B11-Forward!B11 -> 0 | C11: =Reverse!C11-Forward!C11 -> 0 | D11: =Reverse!D11-Forward!D11 -> -1 | E11: =Reverse!E11-Forward!E11 -> 2 | F11: =Reverse!F11-Forward!F11 -> 0 | G11: =Reverse!G11-Forward!G11 -> 0 | H11: =Reverse!H11-Forward!H11 -> -2 | I11: =Reverse!I11-Forward!I11 -> 1 | J11: =Reverse!J11-Forward!J11 -> 0
A12: Ca2+i | B12: =Reverse!B12-Forward!B12 -> 0 | C12: =Reverse!C12-Forward!C12 -> -2 | D12: =Reverse!D12-Forward!D12 -> 0 | E12: =Reverse!E12-Forward!E12 -> 0 | F12: =Reverse!F12-Forward!F12 -> 0 | G12: =Reverse!G12-Forward!G12 -> 0 | H12: =Reverse!H12-Forward!H12 -> 0 | I12: =Reverse!I12-Forward!I12 -> 0 | J12: =Reverse!J12-Forward!J12 -> 0
A13: Ca2+sr | B13: =Reverse!B13-Forward!B13 -> 0 | C13: =Reverse!C13-Forward!C13 -> 0 | D13: =Reverse!D13-Forward!D13 -> 0 | E13: =Reverse!E13-Forward!E13 -> 0 | F13: =Reverse!F13-Forward!F13 -> 0 | G13: =Reverse!G13-Forward!G13 -> 2 | H13: =Reverse!H13-Forward!H13 -> 0 | I13: =Reverse!I13-Forward!I13 -> 0 | J13: =Reverse!J13-Forward!J13 -> 0
... A16: Pi | B16: =Reverse!B16-Forward!B16 -> 0 | C16: =Reverse!C16-Forward!C16 -> 0 | D16: =Reverse!D16-Forward!D16 -> 0 | E16: =Reverse!E16-Forward!E16 -> 0 | F16: =Reverse!F16-Forward!F16 -> 0 | G16: =Reverse!G16-Forward!G16 -> 0 | H16: =Reverse!H16-Forward!H16 -> 0 | I16: =Reverse!I16-Forward!I16 -> 0 | J16: =Reverse!J16-Forward!J16 -> 1
