Workbook

Sheet forward
B1: Re_AC1 | C1: Re_AC2 | D1: Re_EC1 | E1: Re_EC2 | F1: Re_BD1 | G1: Re_BD2 | H1: Re_AND_CE1 | I1: Re_AND_CE2 | J1: Re_AND_DE1 | K1: Re_AND_DE2
A2: A | B2: 1 | C2: 0 | D2: 0 | E2: 0 | F2: 0 | G2: 0 | H2: 0 | I2: 0 | J2: 0 | K2: 0
A3: B | B3: 0 | C3: 0 | D3: 0 | E3: 0 | F3: 1 | G3: 0 | H3: 0 | I3: 0 | J3: 0 | K3: 0
A4: Ci | B4: 1.4 | C4: 0 | D4: 1.4 | E4: 0 | F4: 0 | G4: 0 | H4: 0 | I4: 0 | J4: 0 | K4: 0
A5: C | B5: 0 | C5: 0 | D5: 0 | E5: 0 | F5: 0 | G5: 0 | H5: 1 | I5: 0 | J5: 0 | K5: 0
A6: Di | B6: 0 | C6: 0 | D6: 0 | E6: 0 | F6: 1.4 | G6: 0 | H6: 0 | I6: 0 | J6: 0 | K6: 0
A7: D | B7: 0 | C7: 0 | D7: 0 | E7: 0 | F7: 0 | G7: 0 | H7: 0 | I7: 0 | J7: 1 | K7: 0
A8: Ei | B8: 0 | C8: 0 | D8: 0 | E8: 0 | F8: 0 | G8: 0 | H8: 1.4 | I8: 0 | J8: 0 | K8: 0
A9: E | B9: 0 | C9: 0 | D9: 1 | E9: 0 | F9: 0 | G9: 0 | H9: 0 | I9: 0 | J9: 0 | K9: 0
A10: ACi | B10: 0 | C10: 1 | D10: 0 | E10: 0 | F10: 0 | G10: 0 | H10: 0 | I10: 0 | J10: 0 | K10: 0
A11: ECi | B11: 0 | C11: 0 | D11: 0 | E11: 1 | F11: 0 | G11: 0 | H11: 0 | I11: 0 | J11: 0 | K11: 0
A12: BDi | B12: 0 | C12: 0 | D12: 0 | E12: 0 | F12: 0 | G12: 1 | H12: 0 | I12: 0 | J12: 0 | K12: 0
A13: CEi | B13: 0 | C13: 0 | D13: 0 | E13: 0 | F13: 0 | G13: 0 | H13: 0 | I13: 1 | J13: 0 | K13: 0
... A15: DE1 | B15: 0 | C15: 0 | D15: 0 | E15: 0 | F15: 0 | G15: 0 | H15: 0 | I15: 0 | J15: 0 | K15: 1

Sheet reverse
B1: Re_AC1 | C1: Re_AC2 | D1: Re_EC1 | E1: Re_EC2 | F1: Re_BD1 | G1: Re_BD2 | H1: Re_AND_CE1 | I1: Re_AND_CE2 | J1: Re_AND_DE1 | K1: Re_AND_DE2
A2: A | B2: 0 | C2: 1 | D2: 0 | E2: 0 | F2: 0 | G2: 0 | H2: 0 | I2: 0 | J2: 0 | K2: 0
A3: B | B3: 0 | C3: 0 | D3: 0 | E3: 0 | F3: 0 | G3: 1 | H3: 0 | I3: 0 | J3: 0 | K3: 0
A4: Ci | B4: 0 | C4: 0 | D4: 0 | E4: 0 | F4: 0 | G4: 0 | H4: 0 | I4: 0 | J4: 0 | K4: 0
A5: C | B5: 0 | C5: 1.4 | D5: 0 | E5: 1.4 | F5: 0 | G5: 0 | H5: 0 | I5: 1 | J5: 0 | K5: 0
A6: Di | B6: 0 | C6: 0 | D6: 0 | E6: 0 | F6: 0 | G6: 0 | H6: 0 | I6: 0 | J6: 0 | K6: 0
A7: D | B7: 0 | C7: 0 | D7: 0 | E7: 0 | F7: 0 | G7: 1.4 | H7: 0 | I7: 0 | J7: 0 | K7: 1
A8: Ei | B8: 0 | C8: 0 | D8: 0 | E8: 0 | F8: 0 | G8: 0 | H8: 0 | I8: 0 | J8: 0 | K8: 0
A9: E | B9: 0 | C9: 0 | D9: 0 | E9: 1 | F9: 0 | G9: 0 | H9: 0 | I9: 0 | J9: 0 | K9: 1.4
A10: ACi | B10: 1 | C10: 0 | D10: 0 | E10: 0 | F10: 0 | G10: 0 | H10: 0 | I10: 0 | J10: 0 | K10: 0
A11: ECi | B11: 0 | C11: 0 | D11: 1 | E11: 0 | F11: 0 | G11: 0 | H11: 0 | I11: 0 | J11: 0 | K11: 0
A12: BDi | B12: 0 | C12: 0 | D12: 0 | E12: 0 | F12: 1 | G12: 0 | H12: 0 | I12: 0 | J12: 0 | K12: 0
A13: CEi | B13: 0 | C13: 0 | D13: 0 | E13: 0 | F13: 0 | G13: 0 | H13: 1 | I13: 0 | J13: 0 | K13: 0
... A15: DE1 | B15: 0 | C15: 0 | D15: 0 | E15: 0 | F15: 0 | G15: 0 | H15: 0 | I15: 0 | J15: 1 | K15: 0

Sheet difference
B1: Re_AC1 | C1: Re_AC2 | D1: Re_EC1 | E1: Re_EC2 | F1: Re_BD1 | G1: Re_BD2 | H1: Re_AND_CE1 | I1: Re_AND_CE2 | J1: Re_AND_DE1 | K1: Re_AND_DE2
A2: A | B2: =reverse!B2-forward!B2 -> -1 | C2: =reverse!C2-forward!C2 -> 1 | D2: =reverse!D2-forward!D2 -> 0 | E2: =reverse!E2-forward!E2 -> 0 | F2: =reverse!F2-forward!F2 -> 0 | G2: =reverse!G2-forward!G2 -> 0 | H2: =reverse!H2-forward!H2 -> 0 | I2: =reverse!I2-forward!I2 -> 0 | ... K2: =reverse!K2-forward!K2 -> 0
A3: B | B3: =reverse!B3-forward!B3 -> 0 | C3: =reverse!C3-forward!C3 -> 0 | D3: =reverse!D3-forward!D3 -> 0 | E3: =reverse!E3-forward!E3 -> 0 | F3: =reverse!F3-forward!F3 -> -1 | G3: =reverse!G3-forward!G3 -> 1 | H3: =reverse!H3-forward!H3 -> 0 | I3: =reverse!I3-forward!I3 -> 0 | ... K3: =reverse!K3-forward!K3 -> 0
A4: Ci | B4: =reverse!B4-forward!B4 -> -1.4 | C4: =reverse!C4-forward!C4 -> 0 | D4: =reverse!D4-forward!D4 -> -1.4 | E4: =reverse!E4-forward!E4 -> 0 | F4: =reverse!F4-forward!F4 -> 0 | G4: =reverse!G4-forward!G4 -> 0 | H4: =reverse!H4-forward!H4 -> 0 | I4: =reverse!I4-forward!I4 -> 0 | ... K4: =reverse!K4-forward!K4 -> 0
A5: C | B5: =reverse!B5-forward!B5 -> 0 | C5: =reverse!C5-forward!C5 -> 1.4 | D5: =reverse!D5-forward!D5 -> 0 | E5: =reverse!E5-forward!E5 -> 1.4 | F5: =reverse!F5-forward!F5 -> 0 | G5: =reverse!G5-forward!G5 -> 0 | H5: =reverse!H5-forward!H5 -> -1 | I5: =reverse!I5-forward!I5 -> 1 | ... K5: =reverse!K5-forward!K5 -> 0
A6: Di | B6: =reverse!B6-forward!B6 -> 0 | C6: =reverse!C6-forward!C6 -> 0 | D6: =reverse!D6-forward!D6 -> 0 | E6: =reverse!E6-forward!E6 -> 0 | F6: =reverse!F6-forward!F6 -> -1.4 | G6: =reverse!G6-forward!G6 -> 0 | H6: =reverse!H6-forward!H6 -> 0 | I6: =reverse!I6-forward!I6 -> 0 | ... K6: =reverse!K6-forward!K6 -> 0
A7: D | B7: =reverse!B7-forward!B7 -> 0 | C7: =reverse!C7-forward!C7 -> 0 | D7: =reverse!D7-forward!D7 -> 0 | E7: =reverse!E7-forward!E7 -> 0 | F7: =reverse!F7-forward!F7 -> 0 | G7: =reverse!G7-forward!G7 -> 1.4 | H7: =reverse!H7-forward!H7 -> 0 | I7: =reverse!I7-forward!I7 -> 0 | ... K7: =reverse!K7-forward!K7 -> 1
A8: Ei | B8: =reverse!B8-forward!B8 -> 0 | C8: =reverse!C8-forward!C8 -> 0 | D8: =reverse!D8-forward!D8 -> 0 | E8: =reverse!E8-forward!E8 -> 0 | F8: =reverse!F8-forward!F8 -> 0 | G8: =reverse!G8-forward!G8 -> 0 | H8: =reverse!H8-forward!H8 -> -1.4 | I8: =reverse!I8-forward!I8 -> 0 | ... K8: =reverse!K8-forward!K8 -> 0
A9: E | B9: =reverse!B9-forward!B9 -> 0 | C9: =reverse!C9-forward!C9 -> 0 | D9: =reverse!D9-forward!D9 -> -1 | E9: =reverse!E9-forward!E9 -> 1 | F9: =reverse!F9-forward!F9 -> 0 | G9: =reverse!G9-forward!G9 -> 0 | H9: =reverse!H9-forward!H9 -> 0 | I9: =reverse!I9-forward!I9 -> 0 | ... K9: =reverse!K9-forward!K9 -> 1.4
A10: ACi | B10: =reverse!B10-forward!B10 -> 1 | C10: =reverse!C10-forward!C10 -> -1 | D10: =reverse!D10-forward!D10 -> 0 | E10: =reverse!E10-forward!E10 -> 0 | F10: =reverse!F10-forward!F10 -> 0 | G10: =reverse!G10-forward!G10 -> 0 | H10: =reverse!H10-forward!H10 -> 0 | I10: =reverse!I10-forward!I10 -> 0 | ... K10: =reverse!K10-forward!K10 -> 0
A11: ECi | B11: =reverse!B11-forward!B11 -> 0 | C11: =reverse!C11-forward!C11 -> 0 | D11: =reverse!D11-forward!D11 -> 1 | E11: =reverse!E11-forward!E11 -> -1 | F11: =reverse!F11-forward!F11 -> 0 | G11: =reverse!G11-forward!G11 -> 0 | H11: =reverse!H11-forward!H11 -> 0 | I11: =reverse!I11-forward!I11 -> 0 | ... K11: =reverse!K11-forward!K11 -> 0
A12: BDi | B12: =reverse!B12-forward!B12 -> 0 | C12: =reverse!C12-forward!C12 -> 0 | D12: =reverse!D12-forward!D12 -> 0 | E12: =reverse!E12-forward!E12 -> 0 | F12: =reverse!F12-forward!F12 -> 1 | G12: =reverse!G12-forward!G12 -> -1 | H12: =reverse!H12-forward!H12 -> 0 | I12: =reverse!I12-forward!I12 -> 0 | ... K12: =reverse!K12-forward!K12 -> 0
A13: CEi | B13: =reverse!B13-forward!B13 -> 0 | C13: =reverse!C13-forward!C13 -> 0 | D13: =reverse!D13-forward!D13 -> 0 | E13: =reverse!E13-forward!E13 -> 0 | F13: =reverse!F13-forward!F13 -> 0 | G13: =reverse!G13-forward!G13 -> 0 | H13: =reverse!H13-forward!H13 -> 1 | I13: =reverse!I13-forward!I13 -> -1 | ... K13: =reverse!K13-forward!K13 -> 0
... A15: DE1 | B15: =reverse!B15-forward!B15 -> 0 | C15: =reverse!C15-forward!C15 -> 0 | D15: =reverse!D15-forward!D15 -> 0 | E15: =reverse!E15-forward!E15 -> 0 | F15: =reverse!F15-forward!F15 -> 0 | G15: =reverse!G15-forward!G15 -> 0 | H15: =reverse!H15-forward!H15 -> 0 | I15: =reverse!I15-forward!I15 -> 0 | ... K15: =reverse!K15-forward!K15 -> -1
