Workbook

Sheet forward
B1: Re61 | C1: Re12 | D1: Re23 | E1: Re34 | F1: Re45 | G1: Re56
A2: Na_i | B2: 0 | C2: 0 | D2: 0 | E2: 0 | F2: 0 | G2: 0
A3: Na_o | B3: 0 | C3: 1 | D3: 0 | E3: 0 | F3: 0 | G3: 0
A4: HCO3_i | B4: 0 | C4: 0 | D4: 0 | E4: 0 | F4: 0 | G4: 0
A5: HCO3_o | B5: 0 | C5: 0 | D5: 1 | E5: 0 | F5: 0 | G5: 0
A6: S1 | B6: 0 | C6: 1 | D6: 0 | E6: 0 | F6: 0 | G6: 0
A7: S2 | B7: 0 | C7: 0 | D7: 1 | E7: 0 | F7: 0 | G7: 0
A8: S3 | B8: 0 | C8: 0 | D8: 0 | E8: 1 | F8: 0 | G8: 0
A9: S4 | B9: 0 | C9: 0 | D9: 0 | E9: 0 | F9: 1 | G9: 0
A10: S5 | B10: 0 | C10: 0 | D10: 0 | E10: 0 | F10: 0 | G10: 1
A11: S6 | B11: 1 | C11: 0 | D11: 0 | E11: 0 | F11: 0 | G11: 0
A12: H_i | B12: -2.91 | C12: -2.91 | D12: -2.91 | E12: -2.91 | F12: -2.91 | G12: -2.91
A13: H_e | B13: 2.18 | C13: 2.18 | D13: 2.18 | E13: 2.18 | F13: 2.18 | G13: 2.18

Sheet reverse
B1: Re61 | C1: Re12 | D1: Re23 | E1: Re34 | F1: Re45 | G1: Re56
A2: Na_i | B2: 0 | C2: 0 | D2: 0 | E2: 0 | F2: 0 | G2: 1
A3: Na_o | B3: 0 | C3: 0 | D3: 0 | E3: 0 | F3: 0 | G3: 0
A4: HCO3_i | B4: 0 | C4: 0 | D4: 0 | E4: 0 | F4: 1 | G4: 0
A5: HCO3_o | B5: 0 | C5: 0 | D5: 0 | E5: 0 | F5: 0 | G5: 0
A6: S1 | B6: 1 | C6: 0 | D6: 0 | E6: 0 | F6: 0 | G6: 0
A7: S2 | B7: 0 | C7: 1 | D7: 0 | E7: 0 | F7: 0 | G7: 0
A8: S3 | B8: 0 | C8: 0 | D8: 1 | E8: 0 | F8: 0 | G8: 0
A9: S4 | B9: 0 | C9: 0 | D9: 0 | E9: 1 | F9: 0 | G9: 0
A10: S5 | B10: 0 | C10: 0 | D10: 0 | E10: 0 | F10: 1 | G10: 0
A11: S6 | B11: 0 | C11: 0 | D11: 0 | E11: 0 | F11: 0 | G11: 1
A12: H_i | B12: -2.91 | C12: -2.91 | D12: -2.91 | E12: -2.91 | F12: -2.91 | G12: -2.91
A13: H_e | B13: 2.18 | C13: 2.18 | D13: 2.18 | E13: 2.18 | F13: 2.18 | G13: 2.18

Sheet difference
B1: Re61 | C1: Re12 | D1: Re23 | E1: Re34 | F1: Re45 | G1: Re56
A2: Na_i | B2: =reverse!B2-forward!B2 -> 0 | C2: =reverse!C2-forward!C2 -> 0 | D2: =reverse!D2-forward!D2 -> 0 | E2: =reverse!E2-forward!E2 -> 0 | F2: =reverse!F2-forward!F2 -> 0 | G2: =reverse!G2-forward!G2 -> 1
A3: Na_o | B3: =reverse!B3-forward!B3 -> 0 | C3: =reverse!C3-forward!C3 -> -1 | D3: =reverse!D3-forward!D3 -> 0 | E3: =reverse!E3-forward!E3 -> 0 | F3: =reverse!F3-forward!F3 -> 0 | G3: =reverse!G3-forward!G3 -> 0
A4: HCO3_i | B4: =reverse!B4-forward!B4 -> 0 | C4: =reverse!C4-forward!C4 -> 0 | D4: =reverse!D4-forward!D4 -> 0 | E4: =reverse!E4-forward!E4 -> 0 | F4: =reverse!F4-forward!F4 -> 1 | G4: =reverse!G4-forward!G4 -> 0
A5: HCO3_o | B5: =reverse!B5-forward!B5 -> 0 | C5: =reverse!C5-forward!C5 -> 0 | D5: =reverse!D5-forward!D5 -> -1 | E5: =reverse!E5-forward!E5 -> 0 | F5: =reverse!F5-forward!F5 -> 0 | G5: =reverse!G5-forward!G5 -> 0
A6: S1 | B6: =reverse!B6-forward!B6 -> 1 | C6: =reverse!C6-forward!C6 -> -1 | D6: =reverse!D6-forward!D6 -> 0 | E6: =reverse!E6-forward!E6 -> 0 | F6: =reverse!F6-forward!F6 -> 0 | G6: =reverse!G6-forward!G6 -> 0
A7: S2 | B7: =reverse!B7-forward!B7 -> 0 | C7: =reverse!C7-forward!C7 -> 1 | D7: =reverse!D7-forward!D7 -> -1 | E7: =reverse!E7-forward!E7 -> 0 | F7: =reverse!F7-forward!F7 -> 0 | G7: =reverse!G7-forward!G7 -> 0
A8: S3 | B8: =reverse!B8-forward!B8 -> 0 | C8: =reverse!C8-forward!C8 -> 0 | D8: =reverse!D8-forward!D8 -> 1 | E8: =reverse!E8-forward!E8 -> -1 | F8: =reverse!F8-forward!F8 -> 0 | G8: =reverse!G8-forward!G8 -> 0
A9: S4 | B9: =reverse!B9-forward!B9 -> 0 | C9: =reverse!C9-forward!C9 -> 0 | D9: =reverse!D9-forward!D9 -> 0 | E9: =reverse!E9-forward!E9 -> 1 | F9: =reverse!F9-forward!F9 -> -1 | G9: =reverse!G9-forward!G9 -> 0
A10: S5 | B10: =reverse!B10-forward!B10 -> 0 | C10: =reverse!C10-forward!C10 -> 0 | D10: =reverse!D10-forward!D10 -> 0 | E10: =reverse!E10-forward!E10 -> 0 | F10: =reverse!F10-forward!F10 -> 1 | G10: =reverse!G10-forward!G10 -> -1
A11: S6 | B11: =reverse!B11-forward!B11 -> -1 | C11: =reverse!C11-forward!C11 -> 0 | D11: =reverse!D11-forward!D11 -> 0 | E11: =reverse!E11-forward!E11 -> 0 | F11: =reverse!F11-forward!F11 -> 0 | G11: =reverse!G11-forward!G11 -> 1
A12: H_i | B12: =reverse!B12-forward!B12 -> 0 | C12: =reverse!C12-forward!C12 -> 0 | D12: =reverse!D12-forward!D12 -> 0 | E12: =reverse!E12-forward!E12 -> 0 | F12: =reverse!F12-forward!F12 -> 0 | G12: =reverse!G12-forward!G12 -> 0
A13: H_e | B13: =reverse!B13-forward!B13 -> 0 | C13: =reverse!C13-forward!C13 -> 0 | D13: =reverse!D13-forward!D13 -> 0 | E13: =reverse!E13-forward!E13 -> 0 | F13: =reverse!F13-forward!F13 -> 0 | G13: =reverse!G13-forward!G13 -> 0
A14: now with 3H_i and 2H_e participating as both reactant and product for each reaction, to account for pH dependency of fluxes
