Workbook

Sheet Forward
B1: R_GHK_Ca1 | C1: R_GHK_Ca2 | D1: Rd000 | E1: Rd010 | F1: Rd020 | G1: Rd001 | H1: Rd011 | I1: Rd021 | J1: Rf1_000 | K1: Rf1_100 | L1: Rf1_001 | M1: Rf1_101 | N1: Rf2_000 | O1: Rf2_100 | P1: Rf2_001 | Q1: Rf2_101 | R1: Rf3_010 | S1: Rf3_110 | T1: Rf3_011 | U1: Rf3_111 | V1: RfCa000 | W1: RfCa100 | X1: RfCa010 | Y1: RfCa110 | Z1: Rf020 | AA1: Rf120
A2: Cai | B2: 1 | C2: 1 | D2: 0 | E2: 0 | F2: 0 | G2: 0 | H2: 0 | I2: 0 | J2: 0 | K2: 0 | L2: 0 | M2: 0 | N2: 0 | O2: 0 | P2: 0 | Q2: 0 | R2: 0 | S2: 0 | T2: 0 | U2: 0 | V2: 2 | W2: 2 | X2: 2 | Y2: 2 | Z2: 2 | AA2: 2
A3: Cao | B3: 0 | C3: 0 | D3: 0 | E3: 0 | F3: 0 | G3: 0 | H3: 0 | I3: 0 | J3: 0 | K3: 0 | L3: 0 | M3: 0 | N3: 0 | O3: 0 | P3: 0 | Q3: 0 | R3: 0 | S3: 0 | T3: 0 | U3: 0 | V3: 0 | W3: 0 | X3: 0 | Y3: 0 | Z3: 0 | AA3: 0
A4: S000 | B4: 0 | C4: 0 | D4: 1 | E4: 0 | F4: 0 | G4: 0 | H4: 0 | I4: 0 | J4: 1 | K4: 0 | L4: 0 | M4: 0 | N4: 1 | O4: 0 | P4: 0 | Q4: 0 | R4: 0 | S4: 0 | T4: 0 | U4: 0 | V4: 1 | W4: 0 | X4: 0 | Y4: 0 | Z4: 0 | AA4: 0
A5: S010 | B5: 0 | C5: 0 | D5: 0 | E5: 1 | F5: 0 | G5: 0 | H5: 0 | I5: 0 | J5: 0 | K5: 0 | L5: 0 | M5: 0 | N5: 0 | O5: 0 | P5: 0 | Q5: 0 | R5: 1 | S5: 0 | T5: 0 | U5: 0 | V5: 0 | W5: 0 | X5: 1 | Y5: 0 | Z5: 0 | AA5: 0
A6: S020 | B6: 0 | C6: 0 | D6: 0 | E6: 0 | F6: 1 | G6: 0 | H6: 0 | I6: 0 | J6: 0 | K6: 0 | L6: 0 | M6: 0 | N6: 0 | O6: 0 | P6: 0 | Q6: 0 | R6: 0 | S6: 0 | T6: 0 | U6: 0 | V6: 0 | W6: 0 | X6: 0 | Y6: 0 | Z6: 1 | AA6: 0
A7: S100 | B7: 0 | C7: 0 | D7: 0 | E7: 0 | F7: 0 | G7: 0 | H7: 0 | I7: 0 | J7: 0 | K7: 1 | L7: 0 | M7: 0 | N7: 0 | O7: 1 | P7: 0 | Q7: 0 | R7: 0 | S7: 0 | T7: 0 | U7: 0 | V7: 0 | W7: 1 | X7: 0 | Y7: 0 | Z7: 0 | AA7: 0
A8: S110 | B8: 0 | C8: 0 | D8: 0 | E8: 0 | F8: 0 | G8: 0 | H8: 0 | I8: 0 | J8: 0 | K8: 0 | L8: 0 | M8: 0 | N8: 0 | O8: 0 | P8: 0 | Q8: 0 | R8: 0 | S8: 1 | T8: 0 | U8: 0 | V8: 0 | W8: 0 | X8: 0 | Y8: 1 | Z8: 0 | AA8: 0
A9: S120 | B9: 0 | C9: 0 | D9: 0 | E9: 0 | F9: 0 | G9: 0 | H9: 0 | I9: 0 | J9: 0 | K9: 0 | L9: 0 | M9: 0 | N9: 0 | O9: 0 | P9: 0 | Q9: 0 | R9: 0 | S9: 0 | T9: 0 | U9: 0 | V9: 0 | W9: 0 | X9: 0 | Y9: 0 | Z9: 0 | AA9: 1
A10: S001 | B10: 0 | C10: 0 | D10: 0 | E10: 0 | F10: 0 | G10: 1 | H10: 0 | I10: 0 | J10: 0 | K10: 0 | L10: 1 | M10: 0 | N10: 0 | O10: 0 | P10: 1 | Q10: 0 | R10: 0 | S10: 0 | T10: 0 | U10: 0 | V10: 0 | W10: 0 | X10: 0 | Y10: 0 | Z10: 0 | AA10: 0
A11: S011 | B11: 0 | C11: 0 | D11: 0 | E11: 0 | F11: 0 | G11: 0 | H11: 1 | I11: 0 | J11: 0 | K11: 0 | L11: 0 | M11: 0 | N11: 0 | O11: 0 | P11: 0 | Q11: 0 | R11: 0 | S11: 0 | T11: 1 | U11: 0 | V11: 0 | W11: 0 | X11: 0 | Y11: 0 | Z11: 0 | AA11: 0
A12: S021 | B12: 0 | C12: 0 | D12: 0 | E12: 0 | F12: 0 | G12: 0 | H12: 0 | I12: 1 | J12: 0 | K12: 0 | L12: 0 | M12: 0 | N12: 0 | O12: 0 | P12: 0 | Q12: 0 | R12: 0 | S12: 0 | T12: 0 | U12: 0 | V12: 0 | W12: 0 | X12: 0 | Y12: 0 | Z12: 0 | AA12: 0
A13: S101 | B13: 0 | C13: 0 | D13: 0 | E13: 0 | F13: 0 | G13: 0 | H13: 0 | I13: 0 | J13: 0 | K13: 0 | L13: 0 | M13: 1 | N13: 0 | O13: 0 | P13: 0 | Q13: 1 | R13: 0 | S13: 0 | T13: 0 | U13: 0 | V13: 0 | W13: 0 | X13: 0 | Y13: 0 | Z13: 0 | AA13: 0
... A15: S121 | B15: 0 | C15: 1 | D15: 0 | E15: 0 | F15: 0 | G15: 0 | H15: 0 | I15: 0 | J15: 0 | K15: 0 | L15: 0 | M15: 0 | N15: 0 | O15: 0 | P15: 0 | Q15: 0 | R15: 0 | S15: 0 | T15: 0 | U15: 0 | V15: 0 | W15: 0 | X15: 0 | Y15: 0 | Z15: 0 | AA15: 0

Sheet Reverse
B1: R_GHK_Ca1 | C1: R_GHK_Ca2 | D1: Rd000 | E1: Rd010 | F1: Rd020 | G1: Rd001 | H1: Rd011 | I1: Rd021 | J1: Rf1_000 | K1: Rf1_100 | L1: Rf1_001 | M1: Rf1_101 | N1: Rf2_000 | O1: Rf2_100 | P1: Rf2_001 | Q1: Rf2_101 | R1: Rf3_010 | S1: Rf3_110 | T1: Rf3_011 | U1: Rf3_111 | V1: RfCa000 | W1: RfCa100 | X1: RfCa010 | Y1: RfCa110 | Z1: Rf020 | AA1: Rf120
A2: Cai | B2: 0 | C2: 0 | D2: 0 | E2: 0 | F2: 0 | G2: 0 | H2: 0 | I2: 0 | J2: 0 | K2: 0 | L2: 0 | M2: 0 | N2: 0 | O2: 0 | P2: 0 | Q2: 0 | R2: 0 | S2: 0 | T2: 0 | U2: 0 | V2: 0 | W2: 0 | X2: 0 | Y2: 0 | Z2: 0 | AA2: 0
A3: Cao | B3: 1 | C3: 1 | D3: 0 | E3: 0 | F3: 0 | G3: 0 | H3: 0 | I3: 0 | J3: 0 | K3: 0 | L3: 0 | M3: 0 | N3: 0 | O3: 0 | P3: 0 | Q3: 0 | R3: 0 | S3: 0 | T3: 0 | U3: 0 | V3: 0 | W3: 0 | X3: 0 | Y3: 0 | Z3: 0 | AA3: 0
A4: S000 | B4: 0 | C4: 0 | D4: 0 | E4: 0 | F4: 0 | G4: 0 | H4: 0 | I4: 0 | J4: 0 | K4: 0 | L4: 0 | M4: 0 | N4: 0 | O4: 0 | P4: 0 | Q4: 0 | R4: 0 | S4: 0 | T4: 0 | U4: 0 | V4: 0 | W4: 0 | X4: 0 | Y4: 0 | Z4: 0 | AA4: 0
A5: S010 | B5: 0 | C5: 0 | D5: 0 | E5: 0 | F5: 0 | G5: 0 | H5: 0 | I5: 0 | J5: 1 | K5: 0 | L5: 0 | M5: 0 | N5: 0 | O5: 0 | P5: 0 | Q5: 0 | R5: 0 | S5: 0 | T5: 0 | U5: 0 | V5: 0 | W5: 0 | X5: 0 | Y5: 0 | Z5: 0 | AA5: 0
A6: S020 | B6: 0 | C6: 0 | D6: 0 | E6: 0 | F6: 0 | G6: 0 | H6: 0 | I6: 0 | J6: 0 | K6: 0 | L6: 0 | M6: 0 | N6: 1 | O6: 0 | P6: 0 | Q6: 0 | R6: 1 | S6: 0 | T6: 0 | U6: 0 | V6: 0 | W6: 0 | X6: 0 | Y6: 0 | Z6: 0 | AA6: 0
A7: S100 | B7: 0 | C7: 0 | D7: 1 | E7: 0 | F7: 0 | G7: 0 | H7: 0 | I7: 0 | J7: 0 | K7: 0 | L7: 0 | M7: 0 | N7: 0 | O7: 0 | P7: 0 | Q7: 0 | R7: 0 | S7: 0 | T7: 0 | U7: 0 | V7: 0 | W7: 0 | X7: 0 | Y7: 0 | Z7: 0 | AA7: 0
A8: S110 | B8: 0 | C8: 0 | D8: 0 | E8: 1 | F8: 0 | G8: 0 | H8: 0 | I8: 0 | J8: 0 | K8: 1 | L8: 0 | M8: 0 | N8: 0 | O8: 0 | P8: 0 | Q8: 0 | R8: 0 | S8: 0 | T8: 0 | U8: 0 | V8: 0 | W8: 0 | X8: 0 | Y8: 0 | Z8: 0 | AA8: 0
A9: S120 | B9: 0 | C9: 0 | D9: 0 | E9: 0 | F9: 1 | G9: 0 | H9: 0 | I9: 0 | J9: 0 | K9: 0 | L9: 0 | M9: 0 | N9: 0 | O9: 1 | P9: 0 | Q9: 0 | R9: 0 | S9: 1 | T9: 0 | U9: 0 | V9: 0 | W9: 0 | X9: 0 | Y9: 0 | Z9: 0 | AA9: 0
A10: S001 | B10: 0 | C10: 0 | D10: 0 | E10: 0 | F10: 0 | G10: 0 | H10: 0 | I10: 0 | J10: 0 | K10: 0 | L10: 0 | M10: 0 | N10: 0 | O10: 0 | P10: 0 | Q10: 0 | R10: 0 | S10: 0 | T10: 0 | U10: 0 | V10: 1 | W10: 0 | X10: 0 | Y10: 0 | Z10: 0 | AA10: 0
A11: S011 | B11: 0 | C11: 0 | D11: 0 | E11: 0 | F11: 0 | G11: 0 | H11: 0 | I11: 0 | J11: 0 | K11: 0 | L11: 1 | M11: 0 | N11: 0 | O11: 0 | P11: 0 | Q11: 0 | R11: 0 | S11: 0 | T11: 0 | U11: 0 | V11: 0 | W11: 0 | X11: 1 | Y11: 0 | Z11: 0 | AA11: 0
A12: S021 | B12: 0 | C12: 0 | D12: 0 | E12: 0 | F12: 0 | G12: 0 | H12: 0 | I12: 0 | J12: 0 | K12: 0 | L12: 0 | M12: 0 | N12: 0 | O12: 0 | P12: 1 | Q12: 0 | R12: 0 | S12: 0 | T12: 1 | U12: 0 | V12: 0 | W12: 0 | X12: 0 | Y12: 0 | Z12: 1 | AA12: 0
A13: S101 | B13: 0 | C13: 0 | D13: 0 | E13: 0 | F13: 0 | G13: 1 | H13: 0 | I13: 0 | J13: 0 | K13: 0 | L13: 0 | M13: 0 | N13: 0 | O13: 0 | P13: 0 | Q13: 0 | R13: 0 | S13: 0 | T13: 0 | U13: 0 | V13: 0 | W13: 1 | X13: 0 | Y13: 0 | Z13: 0 | AA13: 0
... A15: S121 | B15: 0 | C15: 1 | D15: 0 | E15: 0 | F15: 0 | G15: 0 | H15: 0 | I15: 1 | J15: 0 | K15: 0 | L15: 0 | M15: 0 | N15: 0 | O15: 0 | P15: 0 | Q15: 1 | R15: 0 | S15: 0 | T15: 0 | U15: 1 | V15: 0 | W15: 0 | X15: 0 | Y15: 0 | Z15: 0 | AA15: 1

Sheet Difference
B1: R_GHK_Ca1 | C1: R_GHK_Ca2 | D1: Rd000 | E1: Rd010 | F1: Rd020 | G1: Rd001 | H1: Rd011 | I1: Rd021 | J1: Rf1_000 | K1: Rf1_100 | L1: Rf1_001 | M1: Rf1_101 | N1: Rf2_000 | O1: Rf2_100 | P1: Rf2_001 | Q1: Rf2_101 | R1: Rf3_010 | S1: Rf3_110 | T1: Rf3_011 | U1: Rf3_111 | V1: RfCa000 | W1: RfCa100 | X1: RfCa010 | Y1: RfCa110 | Z1: RfCa020 | AA1: RfCa120
A2: Cai (Ca_D) | B2: =Reverse!B2-Forward!B2 -> -1 | C2: =Reverse!C2-Forward!C2 -> -1 | D2: =Reverse!D2-Forward!D2 -> 0 | E2: =Reverse!E2-Forward!E2 -> 0 | F2: =Reverse!F2-Forward!F2 -> 0 | G2: =Reverse!G2-Forward!G2 -> 0 | H2: =Reverse!H2-Forward!H2 -> 0 | I2: =Reverse!I2-Forward!I2 -> 0 | ... AA2: =Reverse!AA2-Forward!AA2 -> -2
A3: Cao | B3: =Reverse!B3-Forward!B3 -> 1 | C3: =Reverse!C3-Forward!C3 -> 1 | D3: =Reverse!D3-Forward!D3 -> 0 | E3: =Reverse!E3-Forward!E3 -> 0 | F3: =Reverse!F3-Forward!F3 -> 0 | G3: =Reverse!G3-Forward!G3 -> 0 | H3: =Reverse!H3-Forward!H3 -> 0 | I3: =Reverse!I3-Forward!I3 -> 0 | ... AA3: =Reverse!AA3-Forward!AA3 -> 0
A4: S000 | B4: =Reverse!B4-Forward!B4 -> 0 | C4: =Reverse!C4-Forward!C4 -> 0 | D4: =Reverse!D4-Forward!D4 -> -1 | E4: =Reverse!E4-Forward!E4 -> 0 | F4: =Reverse!F4-Forward!F4 -> 0 | G4: =Reverse!G4-Forward!G4 -> 0 | H4: =Reverse!H4-Forward!H4 -> 0 | I4: =Reverse!I4-Forward!I4 -> 0 | ... AA4: =Reverse!AA4-Forward!AA4 -> 0
A5: S010 | B5: =Reverse!B5-Forward!B5 -> 0 | C5: =Reverse!C5-Forward!C5 -> 0 | D5: =Reverse!D5-Forward!D5 -> 0 | E5: =Reverse!E5-Forward!E5 -> -1 | F5: =Reverse!F5-Forward!F5 -> 0 | G5: =Reverse!G5-Forward!G5 -> 0 | H5: =Reverse!H5-Forward!H5 -> 0 | I5: =Reverse!I5-Forward!I5 -> 0 | ... AA5: =Reverse!AA5-Forward!AA5 -> 0
A6: S020 | B6: =Reverse!B6-Forward!B6 -> 0 | C6: =Reverse!C6-Forward!C6 -> 0 | D6: =Reverse!D6-Forward!D6 -> 0 | E6: =Reverse!E6-Forward!E6 -> 0 | F6: =Reverse!F6-Forward!F6 -> -1 | G6: =Reverse!G6-Forward!G6 -> 0 | H6: =Reverse!H6-Forward!H6 -> 0 | I6: =Reverse!I6-Forward!I6 -> 0 | ... AA6: =Reverse!AA6-Forward!AA6 -> 0
A7: S100 | B7: =Reverse!B7-Forward!B7 -> 0 | C7: =Reverse!C7-Forward!C7 -> 0 | D7: =Reverse!D7-Forward!D7 -> 1 | E7: =Reverse!E7-Forward!E7 -> 0 | F7: =Reverse!F7-Forward!F7 -> 0 | G7: =Reverse!G7-Forward!G7 -> 0 | H7: =Reverse!H7-Forward!H7 -> 0 | I7: =Reverse!I7-Forward!I7 -> 0 | ... AA7: =Reverse!AA7-Forward!AA7 -> 0
A8: S110 | B8: =Reverse!B8-Forward!B8 -> 0 | C8: =Reverse!C8-Forward!C8 -> 0 | D8: =Reverse!D8-Forward!D8 -> 0 | E8: =Reverse!E8-Forward!E8 -> 1 | F8: =Reverse!F8-Forward!F8 -> 0 | G8: =Reverse!G8-Forward!G8 -> 0 | H8: =Reverse!H8-Forward!H8 -> 0 | I8: =Reverse!I8-Forward!I8 -> 0 | ... AA8: =Reverse!AA8-Forward!AA8 -> 0
A9: S120 | B9: =Reverse!B9-Forward!B9 -> 0 | C9: =Reverse!C9-Forward!C9 -> 0 | D9: =Reverse!D9-Forward!D9 -> 0 | E9: =Reverse!E9-Forward!E9 -> 0 | F9: =Reverse!F9-Forward!F9 -> 1 | G9: =Reverse!G9-Forward!G9 -> 0 | H9: =Reverse!H9-Forward!H9 -> 0 | I9: =Reverse!I9-Forward!I9 -> 0 | ... AA9: =Reverse!AA9-Forward!AA9 -> -1
A10: S001 | B10: =Reverse!B10-Forward!B10 -> 0 | C10: =Reverse!C10-Forward!C10 -> 0 | D10: =Reverse!D10-Forward!D10 -> 0 | E10: =Reverse!E10-Forward!E10 -> 0 | F10: =Reverse!F10-Forward!F10 -> 0 | G10: =Reverse!G10-Forward!G10 -> -1 | H10: =Reverse!H10-Forward!H10 -> 0 | I10: =Reverse!I10-Forward!I10 -> 0 | ... AA10: =Reverse!AA10-Forward!AA10 -> 0
A11: S011 | B11: =Reverse!B11-Forward!B11 -> 0 | C11: =Reverse!C11-Forward!C11 -> 0 | D11: =Reverse!D11-Forward!D11 -> 0 | E11: =Reverse!E11-Forward!E11 -> 0 | F11: =Reverse!F11-Forward!F11 -> 0 | G11: =Reverse!G11-Forward!G11 -> 0 | H11: =Reverse!H11-Forward!H11 -> -1 | I11: =Reverse!I11-Forward!I11 -> 0 | ... AA11: =Reverse!AA11-Forward!AA11 -> 0
A12: S021 | B12: =Reverse!B12-Forward!B12 -> 0 | C12: =Reverse!C12-Forward!C12 -> 0 | D12: =Reverse!D12-Forward!D12 -> 0 | E12: =Reverse!E12-Forward!E12 -> 0 | F12: =Reverse!F12-Forward!F12 -> 0 | G12: =Reverse!G12-Forward!G12 -> 0 | H12: =Reverse!H12-Forward!H12 -> 0 | I12: =Reverse!I12-Forward!I12 -> -1 | ... AA12: =Reverse!AA12-Forward!AA12 -> 0
A13: S101 | B13: =Reverse!B13-Forward!B13 -> 0 | C13: =Reverse!C13-Forward!C13 -> 0 | D13: =Reverse!D13-Forward!D13 -> 0 | E13: =Reverse!E13-Forward!E13 -> 0 | F13: =Reverse!F13-Forward!F13 -> 0 | G13: =Reverse!G13-Forward!G13 -> 1 | H13: =Reverse!H13-Forward!H13 -> 0 | I13: =Reverse!I13-Forward!I13 -> 0 | ... AA13: =Reverse!AA13-Forward!AA13 -> 0
... A15: S121 | B15: =Reverse!B15-Forward!B15 -> 0 | C15: =Reverse!C15-Forward!C15 -> 0 | D15: =Reverse!D15-Forward!D15 -> 0 | E15: =Reverse!E15-Forward!E15 -> 0 | F15: =Reverse!F15-Forward!F15 -> 0 | G15: =Reverse!G15-Forward!G15 -> 0 | H15: =Reverse!H15-Forward!H15 -> 0 | I15: =Reverse!I15-Forward!I15 -> 1 | ... AA15: =Reverse!AA15-Forward!AA15 -> 1
